BEGIN:VCALENDAR
VERSION:2.0
PRODID:-//Greening Projects - ECPv6.15.20//NONSGML v1.0//EN
CALSCALE:GREGORIAN
METHOD:PUBLISH
X-ORIGINAL-URL:https://greeningprojects.org
X-WR-CALDESC:Events for Greening Projects
REFRESH-INTERVAL;VALUE=DURATION:PT1H
X-Robots-Tag:noindex
X-PUBLISHED-TTL:PT1H
BEGIN:VTIMEZONE
TZID:America/Los_Angeles
BEGIN:DAYLIGHT
TZOFFSETFROM:-0800
TZOFFSETTO:-0700
TZNAME:PDT
DTSTART:20250309T100000
END:DAYLIGHT
BEGIN:STANDARD
TZOFFSETFROM:-0700
TZOFFSETTO:-0800
TZNAME:PST
DTSTART:20251102T090000
END:STANDARD
BEGIN:DAYLIGHT
TZOFFSETFROM:-0800
TZOFFSETTO:-0700
TZNAME:PDT
DTSTART:20260308T100000
END:DAYLIGHT
BEGIN:STANDARD
TZOFFSETFROM:-0700
TZOFFSETTO:-0800
TZNAME:PST
DTSTART:20261101T090000
END:STANDARD
BEGIN:DAYLIGHT
TZOFFSETFROM:-0800
TZOFFSETTO:-0700
TZNAME:PDT
DTSTART:20270314T100000
END:DAYLIGHT
BEGIN:STANDARD
TZOFFSETFROM:-0700
TZOFFSETTO:-0800
TZNAME:PST
DTSTART:20271107T090000
END:STANDARD
END:VTIMEZONE
BEGIN:VEVENT
DTSTART;TZID=America/Los_Angeles:20260221T100000
DTEND;TZID=America/Los_Angeles:20260221T120000
DTSTAMP:20260421T161324
CREATED:20260212T001444Z
LAST-MODIFIED:20260216T234926Z
UID:72103-1771668000-1771675200@greeningprojects.org
SUMMARY:Bernal Heights: Tompkins Stairway Garden Work Day
DESCRIPTION:Join us at the Tompkins Stairway Garden from 10:00 a.m. to 12:00 p.m. to engage in rewarding activities such as weeding\, pruning\, and litter picking\, and help maintain this quaint green space in our beloved Bernal neighborhood! \nIf you often use these stairs to travel to or from the Alemany Farmers Market\, this is the perfect opportunity to help preserve their beauty. \nWe will provide work gloves and the necessary tools for the tasks at hand. Moreover\, experts from the U.C. Master Gardener program will impart knowledge on plant care. For safety\, we recommend wearing long-sleeved tops\, long pants\, and sturdy shoes. Don’t forget to bring water to keep yourself hydrated. \nLocation: At the junction of Tompkins Avenue and Nevada Street\, right at the top of the stairs. Join us and make a difference! \n\nOnce a trash-covered hillside\, San Francisco’s Tompkins Stairway Garden is a safe and welcoming street park featuring a drought-tolerant garden in year-round bloom and a colorful tiled stairway. Dedicated attention from surrounding neighbors has transformed the site into a community greenspace and pedestrian corridor serving the Alemany Farmers’ Market and nearby schools and shopping districts. \nTompkins Stairs is a Greening Projects project. \nTompkins Stairway Garden Work Day\nHelp Us Grow a Greener\, Healthier San Francisco\nCalendar – Bernal Heights and Beyond
URL:https://greeningprojects.org/event/bernal-heights-tompkins-stairway-garden-work-day/
LOCATION:Tompkins Stairway Garden\, Tompkins Avenue\, San Francisco\, CA\, 94110\, United States
CATEGORIES:Workday
ATTACH;FMTTYPE=image/jpeg:https://greeningprojects.org/wp-content/uploads/2025/09/volunteerteens.jpg
END:VEVENT
END:VCALENDAR