BEGIN:VCALENDAR
VERSION:2.0
PRODID:-//Greening Projects - ECPv6.15.20//NONSGML v1.0//EN
CALSCALE:GREGORIAN
METHOD:PUBLISH
X-ORIGINAL-URL:https://greeningprojects.org
X-WR-CALDESC:Events for Greening Projects
REFRESH-INTERVAL;VALUE=DURATION:PT1H
X-Robots-Tag:noindex
X-PUBLISHED-TTL:PT1H
BEGIN:VTIMEZONE
TZID:America/Los_Angeles
BEGIN:DAYLIGHT
TZOFFSETFROM:-0800
TZOFFSETTO:-0700
TZNAME:PDT
DTSTART:20240310T100000
END:DAYLIGHT
BEGIN:STANDARD
TZOFFSETFROM:-0700
TZOFFSETTO:-0800
TZNAME:PST
DTSTART:20241103T090000
END:STANDARD
BEGIN:DAYLIGHT
TZOFFSETFROM:-0800
TZOFFSETTO:-0700
TZNAME:PDT
DTSTART:20250309T100000
END:DAYLIGHT
BEGIN:STANDARD
TZOFFSETFROM:-0700
TZOFFSETTO:-0800
TZNAME:PST
DTSTART:20251102T090000
END:STANDARD
BEGIN:DAYLIGHT
TZOFFSETFROM:-0800
TZOFFSETTO:-0700
TZNAME:PDT
DTSTART:20260308T100000
END:DAYLIGHT
BEGIN:STANDARD
TZOFFSETFROM:-0700
TZOFFSETTO:-0800
TZNAME:PST
DTSTART:20261101T090000
END:STANDARD
END:VTIMEZONE
BEGIN:VEVENT
DTSTART;TZID=America/Los_Angeles:20251005T093000
DTEND;TZID=America/Los_Angeles:20251005T123000
DTSTAMP:20260421T212717
CREATED:20250911T232901Z
LAST-MODIFIED:20260123T203526Z
UID:72107-1759656600-1759667400@greeningprojects.org
SUMMARY:Tompkins Stairway Garden’s Fundraising Walk
DESCRIPTION:Join the Tompkins Stairway Garden’s First Annual “Explore Bernal” Fundraising Walk\nSunday\, October 5th • 9:30 AM – 12:30 PM \n\nWhat awaits you on this neighborhood adventure?\n🌿 TWO miles of discovery\n🌱 THREE inspiring greening projects\n🏠 FIVE historic earthquake shacks\n🪜 THREE charming stairways\n🥨 TWO delicious snack stops\n🗝️ ONE secret path (shh!)\n🍺 ONE celebratory brewery finish! \n\nWhy You’ll Love This Walk \nMeet your neighbors and fall in love with Bernal Heights all over again! If you’re not from Bernal\, get a behind-the-scenes peek into one of San Francisco’s favorite neighborhoods. This isn’t just a stroll—it’s a deep dive into our community’s heart and soul. You’ll discover the fascinating stories behind our historic earthquake shacks\, witness firsthand how passionate Bernalites are transforming our neighborhood with beautiful greening projects\, and explore hidden gems you never knew existed. \nPerfect for: \nLongtime residents wanting to see their neighborhood with fresh eyes\, newcomers eager to connect with the community\, history buffs\, urban gardening enthusiasts\, San Francisco stairway fans\, and anyone who loves a good neighborhood adventure. \n\n \nExplore Bernal \n\n\nTicket Details\n$75 per person | Kids walk FREE! \n\nWhat’s Included with Every Ticket\n☕ Morning fuel: Coffee and delicious treats to kickstart your adventure \n🗺️ Custom printed map: Block-by-block instructions so you won’t miss a thing \n📚 Expert presentations: Fascinating insights about Bernal’s history and community greening projects at special stops \n🍻 Post-walk celebration: Family-friendly gathering at Barebottle Brewery with one free drink included \n🎁 Prize drawing: Your chance to win gift certificates to beloved Bernal eateries and shops\, original artwork from local artists\, photographs\, and other meaningful prizes \n\nSupporting Our Community\nEvery dollar raised benefits the Tompkins Stairway Garden—Bernal’s own contribution to San Francisco’s famous network of tiled stairway gardens. Your participation directly supports this beautiful community space that brings neighbors together and adds natural beauty to our hillside home. \n\nReady to Explore?\nDon’t miss this unique opportunity to see Bernal Heights through new eyes while supporting a wonderful cause. Space is limited for this intimate neighborhood experience! \n\n\n\n\n\nStory \nWelcome to the Tompkins Stairway Garden\nOnce a trash-covered hillside\, San Francisco’s Tompkins Stairway Garden is now a safe and welcoming street park\, featuring a drought-tolerant garden in year-round bloom and a colorful tiled stairway. Dedicated attention from surrounding neighbors has transformed the site into a community greenspace and pedestrian corridor serving the Alemany Farmers’ Market and nearby schools and shopping districts. \nWe completed our garden implementation in spring 2019 and celebrated with a ribbon-cutting ceremony on June 8 (see our news page). The San Francisco Chronicle calls our new garden “stunning\,” “gorgeous\,” and a “cheerful splash of public art that will probably become a photo hot spot.” \nIn addition\, San Francisco Beautiful honored us with the 2019 Placemaking Award for creating a sense of identity in a public space. We are grateful to Andre Rothblatt\, founding member of Tompkins Stairway Garden\, for our multicolored\, zigzag tile design\, inspired by the “Steps to Peace” painted by youth in the Syrian town of Deir Atiyah. Arterra Landscape Architects generously provided our landscape design. \nThe stairs link Tompkins Avenue between Nevada and Putnam Streets in the southeast area of Bernal Heights. The next time you’re in the neighborhood\, stop by! \n\n\nHelp Us Grow a Greener\, Healthier San Francisco
URL:https://greeningprojects.org/event/tompkins-stairway-gardens-fundraising-walk/
LOCATION:CA
CATEGORIES:Fundraiser
ATTACH;FMTTYPE=image/png:https://greeningprojects.org/wp-content/uploads/2025/09/First-Annual-Explore-Bernal.png
END:VEVENT
END:VCALENDAR